BEGIN:VCALENDAR
VERSION:2.0
PRODID:-//eventon.com NONSGML v1.0//EN
CALSCALE:GREGORIAN
METHOD:PUBLISH
BEGIN:VEVENT
UID:69e5a9cf0dc4f
DTSTAMP:20260420T042135Z
DTSTART:20230222T130000Z
DTEND:20230224T213000Z
LOCATION:
SUMMARY:Certified Government Financial Manager (CGFM) Exam Preparation Program-Course 2
DESCRIPTION:The CGFM is a professional certification that is awarded by the
  American Government Association (AGA). This certification demonstrates com
 petencies in governmental accounting\,  auditing\,  financial reporting\,  
 internal control and budgeting at the federal\,  state\,  and local levels.
  Course 2 &#8211; Governmental Accounting\,  Financial Reporting and Budget
 ing is taught in a three[..]\nhttps://www.mooreexeced.com/events/certified-
 government-financial-manager-cgfm-exam-preparation-program-course-2/
URL:https://www.mooreexeced.com/events/certified-government-financial-manager-cgfm-exam-preparation-program-course-2/
END:VEVENT
END:VCALENDAR