BEGIN:VCALENDAR
VERSION:2.0
PRODID:-//eventon.com NONSGML v1.0//EN
CALSCALE:GREGORIAN
METHOD:PUBLISH
BEGIN:VEVENT
UID:69e5912f73556
DTSTAMP:20260420T023631Z
DTSTART:20230227T130000Z
DTEND:20230228T213000Z
LOCATION:
SUMMARY:Certified Government Financial Manager (CGFM) Exam Preparation Program-Course 3
DESCRIPTION:The CGFM is a professional certification that is awarded by the
  American Government Association (AGA). This certification demonstrates com
 petencies in governmental accounting\,  auditing\,  financial reporting\,  
 internal control and budgeting at the federal\,  state\,  and local levels.
  Course 3 &#8211; Governmental Financial Management and Control is taught i
 n a two consecutive[..]\nhttps://www.mooreexeced.com/events/certified-gover
 nment-financial-manager-cgfm-exam-preparation-program-course-3/
URL:https://www.mooreexeced.com/events/certified-government-financial-manager-cgfm-exam-preparation-program-course-3/
END:VEVENT
END:VCALENDAR